BEGIN:VCALENDAR
VERSION:2.0
PRODID:-//Smith County Master Gardeners - ECPv6.15.20//NONSGML v1.0//EN
CALSCALE:GREGORIAN
METHOD:PUBLISH
X-ORIGINAL-URL:https://txmgsc.org
X-WR-CALDESC:Events for Smith County Master Gardeners
REFRESH-INTERVAL;VALUE=DURATION:PT1H
X-Robots-Tag:noindex
X-PUBLISHED-TTL:PT1H
BEGIN:VTIMEZONE
TZID:America/Chicago
BEGIN:DAYLIGHT
TZOFFSETFROM:-0600
TZOFFSETTO:-0500
TZNAME:CDT
DTSTART:20240310T080000
END:DAYLIGHT
BEGIN:STANDARD
TZOFFSETFROM:-0500
TZOFFSETTO:-0600
TZNAME:CST
DTSTART:20241103T070000
END:STANDARD
BEGIN:DAYLIGHT
TZOFFSETFROM:-0600
TZOFFSETTO:-0500
TZNAME:CDT
DTSTART:20250309T080000
END:DAYLIGHT
BEGIN:STANDARD
TZOFFSETFROM:-0500
TZOFFSETTO:-0600
TZNAME:CST
DTSTART:20251102T070000
END:STANDARD
BEGIN:DAYLIGHT
TZOFFSETFROM:-0600
TZOFFSETTO:-0500
TZNAME:CDT
DTSTART:20260308T080000
END:DAYLIGHT
BEGIN:STANDARD
TZOFFSETFROM:-0500
TZOFFSETTO:-0600
TZNAME:CST
DTSTART:20261101T070000
END:STANDARD
BEGIN:DAYLIGHT
TZOFFSETFROM:-0600
TZOFFSETTO:-0500
TZNAME:CDT
DTSTART:20270314T080000
END:DAYLIGHT
BEGIN:STANDARD
TZOFFSETFROM:-0500
TZOFFSETTO:-0600
TZNAME:CST
DTSTART:20271107T070000
END:STANDARD
END:VTIMEZONE
BEGIN:VEVENT
DTSTART;TZID=America/Chicago:20260310T140000
DTEND;TZID=America/Chicago:20260310T150000
DTSTAMP:20260424T142656
CREATED:20260115T145528Z
LAST-MODIFIED:20260116T000730Z
UID:10000455-1773151200-1773154800@txmgsc.org
SUMMARY:Guerilla Gardening
DESCRIPTION:An interactive learning experience for kids and their parents that makes a case for suburban and urban gardening to create space for nature \nThe Lillie Russell Library Lindale March 10\, 2:00pm \nSpace is limited. Contact the Children’s Librarian for more information
URL:https://txmgsc.org/event/small-spaces-big-impact-create-a-haven-for-nature-at-home/
LOCATION:Lillie Russell Library\, 200 E. Hubbard St.\, Lindale\, TX\, 75771\, United States
CATEGORIES:Available CE Credits,Open to the Public
ATTACH;FMTTYPE=image/jpeg:https://txmgsc.org/wp-content/uploads/2026/01/pexels-ricardo-abreu-454324-5620667-scaled.jpg
END:VEVENT
BEGIN:VEVENT
DTSTART;TZID=America/Chicago:20250924T160000
DTEND;TZID=America/Chicago:20250924T173000
DTSTAMP:20260424T142656
CREATED:20250809T214108Z
LAST-MODIFIED:20250809T214108Z
UID:10000244-1758729600-1758735000@txmgsc.org
SUMMARY:Hardworking Bugs
DESCRIPTION:Join us as Smith County Master Gardeners presents Hardworking Bugs\, an opportunity to learn about our bug friends and how to help them stay healthy so they can help us. This is a program for all ages and a seed bomb making portion will be offered at the end so you can take some pollinator friendly seeds home that you won’t have to plant! \nWhen:  Wednesday\, September 24th\nTime:    4:00 pm\nWhere: Lily Russell Library in Lindale
URL:https://txmgsc.org/event/hardworking-bugs/
LOCATION:Lillie Russell Library\, 200 E. Hubbard St.\, Lindale\, TX\, 75771\, United States
CATEGORIES:Available CE Credits,Open to the Public
ATTACH;FMTTYPE=image/png:https://txmgsc.org/wp-content/uploads/2025/08/2025-09-24-Hard-working-bugs.png
END:VEVENT
END:VCALENDAR