BEGIN:VCALENDAR
VERSION:2.0
PRODID:-//Smith County Master Gardeners - ECPv6.15.20//NONSGML v1.0//EN
CALSCALE:GREGORIAN
METHOD:PUBLISH
X-WR-CALNAME:Smith County Master Gardeners
X-ORIGINAL-URL:https://txmgsc.org
X-WR-CALDESC:Events for Smith County Master Gardeners
REFRESH-INTERVAL;VALUE=DURATION:PT1H
X-Robots-Tag:noindex
X-PUBLISHED-TTL:PT1H
BEGIN:VTIMEZONE
TZID:America/Chicago
BEGIN:DAYLIGHT
TZOFFSETFROM:-0600
TZOFFSETTO:-0500
TZNAME:CDT
DTSTART:20240310T080000
END:DAYLIGHT
BEGIN:STANDARD
TZOFFSETFROM:-0500
TZOFFSETTO:-0600
TZNAME:CST
DTSTART:20241103T070000
END:STANDARD
BEGIN:DAYLIGHT
TZOFFSETFROM:-0600
TZOFFSETTO:-0500
TZNAME:CDT
DTSTART:20250309T080000
END:DAYLIGHT
BEGIN:STANDARD
TZOFFSETFROM:-0500
TZOFFSETTO:-0600
TZNAME:CST
DTSTART:20251102T070000
END:STANDARD
BEGIN:DAYLIGHT
TZOFFSETFROM:-0600
TZOFFSETTO:-0500
TZNAME:CDT
DTSTART:20260308T080000
END:DAYLIGHT
BEGIN:STANDARD
TZOFFSETFROM:-0500
TZOFFSETTO:-0600
TZNAME:CST
DTSTART:20261101T070000
END:STANDARD
BEGIN:DAYLIGHT
TZOFFSETFROM:-0600
TZOFFSETTO:-0500
TZNAME:CDT
DTSTART:20270314T080000
END:DAYLIGHT
BEGIN:STANDARD
TZOFFSETFROM:-0500
TZOFFSETTO:-0600
TZNAME:CST
DTSTART:20271107T070000
END:STANDARD
END:VTIMEZONE
BEGIN:VEVENT
DTSTART;TZID=America/Chicago:20260327T103000
DTEND;TZID=America/Chicago:20260327T113000
DTSTAMP:20260424T125827
CREATED:20260115T144607Z
LAST-MODIFIED:20260116T000938Z
UID:10000454-1774607400-1774611000@txmgsc.org
SUMMARY:Growing your own Your own Food
DESCRIPTION:Our 4-part Spring Series with the Food Bank of East Texas is back! \nPlanning Your Food Garden: Draw and graph your perfect garden\, learn tricks and tips about sites and microclimates \nBuilding Good Dirt: how to make the most of your soil \nPlanting a Garden:  a hands-on lesson on planting and feeding young plants and seeds \nFree Labor\, Pollinators\, and those other Guys:  how to deal with insects in your garden \nEast Texas Food Bank\, Nutrition Classroom\, Every Friday in March at 10:30 am \nSpanish language materials will also be available.
URL:https://txmgsc.org/event/growing-your-own-your-own-food/2026-03-27/
LOCATION:East Texas Food Bank\, 3201 Robertson Rd\, Tyler\, TX\, 75701\, United States
CATEGORIES:Available CE Credits,Open to the Public
ATTACH;FMTTYPE=image/jpeg:https://txmgsc.org/wp-content/uploads/2026/01/fall-veggie-garden.jpg
END:VEVENT
BEGIN:VEVENT
DTSTART;TZID=America/Chicago:20260320T103000
DTEND;TZID=America/Chicago:20260320T113000
DTSTAMP:20260424T125827
CREATED:20260115T144607Z
LAST-MODIFIED:20260116T000938Z
UID:10000453-1774002600-1774006200@txmgsc.org
SUMMARY:Growing your own Your own Food
DESCRIPTION:Our 4-part Spring Series with the Food Bank of East Texas is back! \nPlanning Your Food Garden: Draw and graph your perfect garden\, learn tricks and tips about sites and microclimates \nBuilding Good Dirt: how to make the most of your soil \nPlanting a Garden:  a hands-on lesson on planting and feeding young plants and seeds \nFree Labor\, Pollinators\, and those other Guys:  how to deal with insects in your garden \nEast Texas Food Bank\, Nutrition Classroom\, Every Friday in March at 10:30 am \nSpanish language materials will also be available.
URL:https://txmgsc.org/event/growing-your-own-your-own-food/2026-03-20/
LOCATION:East Texas Food Bank\, 3201 Robertson Rd\, Tyler\, TX\, 75701\, United States
CATEGORIES:Available CE Credits,Open to the Public
ATTACH;FMTTYPE=image/jpeg:https://txmgsc.org/wp-content/uploads/2026/01/fall-veggie-garden.jpg
END:VEVENT
BEGIN:VEVENT
DTSTART;TZID=America/Chicago:20260313T103000
DTEND;TZID=America/Chicago:20260313T113000
DTSTAMP:20260424T125827
CREATED:20260115T144607Z
LAST-MODIFIED:20260116T000938Z
UID:10000452-1773397800-1773401400@txmgsc.org
SUMMARY:Growing your own Your own Food
DESCRIPTION:Our 4-part Spring Series with the Food Bank of East Texas is back! \nPlanning Your Food Garden: Draw and graph your perfect garden\, learn tricks and tips about sites and microclimates \nBuilding Good Dirt: how to make the most of your soil \nPlanting a Garden:  a hands-on lesson on planting and feeding young plants and seeds \nFree Labor\, Pollinators\, and those other Guys:  how to deal with insects in your garden \nEast Texas Food Bank\, Nutrition Classroom\, Every Friday in March at 10:30 am \nSpanish language materials will also be available.
URL:https://txmgsc.org/event/growing-your-own-your-own-food/2026-03-13/
LOCATION:East Texas Food Bank\, 3201 Robertson Rd\, Tyler\, TX\, 75701\, United States
CATEGORIES:Available CE Credits,Open to the Public
ATTACH;FMTTYPE=image/jpeg:https://txmgsc.org/wp-content/uploads/2026/01/fall-veggie-garden.jpg
END:VEVENT
BEGIN:VEVENT
DTSTART;TZID=America/Chicago:20260306T103000
DTEND;TZID=America/Chicago:20260306T113000
DTSTAMP:20260424T125827
CREATED:20260115T144607Z
LAST-MODIFIED:20260116T000938Z
UID:10000451-1772793000-1772796600@txmgsc.org
SUMMARY:Growing your own Your own Food
DESCRIPTION:Our 4-part Spring Series with the Food Bank of East Texas is back! \nPlanning Your Food Garden: Draw and graph your perfect garden\, learn tricks and tips about sites and microclimates \nBuilding Good Dirt: how to make the most of your soil \nPlanting a Garden:  a hands-on lesson on planting and feeding young plants and seeds \nFree Labor\, Pollinators\, and those other Guys:  how to deal with insects in your garden \nEast Texas Food Bank\, Nutrition Classroom\, Every Friday in March at 10:30 am \nSpanish language materials will also be available.
URL:https://txmgsc.org/event/growing-your-own-your-own-food/2026-03-06/
LOCATION:East Texas Food Bank\, 3201 Robertson Rd\, Tyler\, TX\, 75701\, United States
CATEGORIES:Available CE Credits,Open to the Public
ATTACH;FMTTYPE=image/jpeg:https://txmgsc.org/wp-content/uploads/2026/01/fall-veggie-garden.jpg
END:VEVENT
BEGIN:VEVENT
DTSTART;TZID=America/Chicago:20250926T103000
DTEND;TZID=America/Chicago:20250926T120000
DTSTAMP:20260424T125827
CREATED:20250809T211629Z
LAST-MODIFIED:20250809T211829Z
UID:10000241-1758882600-1758888000@txmgsc.org
SUMMARY:Cool Season Gardening
DESCRIPTION:Every Friday during September 2025 at 10:30 am\, SCMG will be teaching a class to help you not only have a successful vegetable and herb garden at home\, but how to care for it in any weather. \nHere’s a list of the September offerings: \nSeptember 5th Handling Heat and Drought in your garden: You can’t beat the heat\, but you can outsmart it \nSeptember 12th Seed Saving and Propagation: Or\, Getting a Garden for Free \nSeptember 19th Small Scale Composting\, kitchen scraps\, worms\, and other ways to turn throw aways and weeds into garden gold \nSeptember 26th Planting a Fall and Winter food garden and cold weather care. \nWe hope to see you there!
URL:https://txmgsc.org/event/cool-season-gardening/
LOCATION:East Texas Food Bank\, 3201 Robertson Rd\, Tyler\, TX\, 75701\, United States
CATEGORIES:Available CE Credits,Open to the Public
ATTACH;FMTTYPE=image/png:https://txmgsc.org/wp-content/uploads/2025/08/2025-08-09_16h11_09.png
END:VEVENT
BEGIN:VEVENT
DTSTART;TZID=America/Chicago:20250919T103000
DTEND;TZID=America/Chicago:20250919T120000
DTSTAMP:20260424T125827
CREATED:20250809T211508Z
LAST-MODIFIED:20250809T211508Z
UID:10000240-1758277800-1758283200@txmgsc.org
SUMMARY:Small Scale Composting and Vermiculture
DESCRIPTION:Every Friday during September 2025 at 10:30 am\, SCMG will be teaching a class to help you not only have a successful vegetable and herb garden at home\, but how to care for it in any weather. \nHere’s a list of the September offerings: \nSeptember 5th Handling Heat and Drought in your garden: You can’t beat the heat\, but you can outsmart it \nSeptember 12th Seed Saving and Propagation: Or\, Getting a Garden for Free \nSeptember 19th Small Scale Composting\, kitchen scraps\, worms\, and other ways to turn throw aways and weeds into garden gold \nSeptember 26th Planting a Fall and Winter food garden and cold weather care. \nWe hope to see you there!
URL:https://txmgsc.org/event/small-scale-composting-and-vermiculture/
LOCATION:East Texas Food Bank\, 3201 Robertson Rd\, Tyler\, TX\, 75701\, United States
CATEGORIES:Available CE Credits,Open to the Public
ATTACH;FMTTYPE=image/png:https://txmgsc.org/wp-content/uploads/2025/08/2025-08-09_16h11_09.png
END:VEVENT
BEGIN:VEVENT
DTSTART;TZID=America/Chicago:20250912T103000
DTEND;TZID=America/Chicago:20250912T120000
DTSTAMP:20260424T125827
CREATED:20250809T211250Z
LAST-MODIFIED:20250809T214224Z
UID:10000239-1757673000-1757678400@txmgsc.org
SUMMARY:Seed Saving and Propagation
DESCRIPTION:Every Friday during September 2025 at 10:30 am\, SCMG will be teaching a class to help you not only have a successful vegetable and herb garden at home\, but how to care for it in any weather. \nHere’s a list of the September offerings: \nSeptember 5th Handling Heat and Drought in your garden: You can’t beat the heat\, but you can outsmart it \nSeptember 12th Seed Saving and Propagation: Or\, Getting a Garden for Free \nSeptember 19th Small Scale Composting\, kitchen scraps\, worms\, and other ways to turn throw aways and weeds into garden gold \nSeptember 26th Planting a Fall and Winter food garden and cold weather care. \nWe hope to see you there!
URL:https://txmgsc.org/event/seed-saving-and-propagation/
LOCATION:East Texas Food Bank\, 3201 Robertson Rd\, Tyler\, TX\, 75701\, United States
CATEGORIES:Available CE Credits,Open to the Public
ATTACH;FMTTYPE=image/png:https://txmgsc.org/wp-content/uploads/2025/08/2025-08-09_16h11_09.png
END:VEVENT
BEGIN:VEVENT
DTSTART;TZID=America/Chicago:20250905T103000
DTEND;TZID=America/Chicago:20250905T120000
DTSTAMP:20260424T125827
CREATED:20250809T210635Z
LAST-MODIFIED:20250809T211337Z
UID:10000238-1757068200-1757073600@txmgsc.org
SUMMARY:How to Deal with Heat and Drought in the Vegetable Garden
DESCRIPTION:Every Friday during September 2025 at 10:30 am\, SCMG will be teaching a class to help you not only have a successful vegetable and herb garden at home\, but how to care for it in any weather. \nHere’s a list of the September offerings: \nSeptember 5th Handling Heat and Drought in your garden: You can’t beat the heat\, but you can outsmart it \nSeptember 12th Seed Saving and Propagation: Or\, Getting a Garden for Free \nSeptember 19th Small Scale Composting\, kitchen scraps\, worms\, and other ways to turn throw aways and weeds into garden gold \nSeptember 26th Planting a Fall and Winter food garden and cold weather care. \nWe hope to see you there!
URL:https://txmgsc.org/event/how-to-deal-with-heat-and-drought-in-the-vegetable-garden/
LOCATION:East Texas Food Bank\, 3201 Robertson Rd\, Tyler\, TX\, 75701\, United States
CATEGORIES:Available CE Credits,Open to the Public
ATTACH;FMTTYPE=image/png:https://txmgsc.org/wp-content/uploads/2025/08/2025-08-09_16h11_09.png
END:VEVENT
END:VCALENDAR