BEGIN:VCALENDAR
VERSION:2.0
PRODID:-//Smith County Master Gardeners - ECPv6.15.20//NONSGML v1.0//EN
CALSCALE:GREGORIAN
METHOD:PUBLISH
X-ORIGINAL-URL:https://txmgsc.org
X-WR-CALDESC:Events for Smith County Master Gardeners
REFRESH-INTERVAL;VALUE=DURATION:PT1H
X-Robots-Tag:noindex
X-PUBLISHED-TTL:PT1H
BEGIN:VTIMEZONE
TZID:America/Chicago
BEGIN:DAYLIGHT
TZOFFSETFROM:-0600
TZOFFSETTO:-0500
TZNAME:CDT
DTSTART:20240310T080000
END:DAYLIGHT
BEGIN:STANDARD
TZOFFSETFROM:-0500
TZOFFSETTO:-0600
TZNAME:CST
DTSTART:20241103T070000
END:STANDARD
BEGIN:DAYLIGHT
TZOFFSETFROM:-0600
TZOFFSETTO:-0500
TZNAME:CDT
DTSTART:20250309T080000
END:DAYLIGHT
BEGIN:STANDARD
TZOFFSETFROM:-0500
TZOFFSETTO:-0600
TZNAME:CST
DTSTART:20251102T070000
END:STANDARD
BEGIN:DAYLIGHT
TZOFFSETFROM:-0600
TZOFFSETTO:-0500
TZNAME:CDT
DTSTART:20260308T080000
END:DAYLIGHT
BEGIN:STANDARD
TZOFFSETFROM:-0500
TZOFFSETTO:-0600
TZNAME:CST
DTSTART:20261101T070000
END:STANDARD
END:VTIMEZONE
BEGIN:VEVENT
DTSTART;TZID=America/Chicago:20250913T090000
DTEND;TZID=America/Chicago:20250913T120000
DTSTAMP:20260424T230430
CREATED:20250823T135139Z
LAST-MODIFIED:20250823T144354Z
UID:10000252-1757754000-1757764800@txmgsc.org
SUMMARY:Gorgeous & Ghoulish Gourds Workshop
DESCRIPTION:Join SFA Gardens for the Gorgeous and Ghoulish Gourds event\, a Garden Seminar for creating artistic and useful items with dried gourds. Participants will create their own decorated gourd to take home\, All materials will be provided. \nWhen:  Saturday\, September 13\, 2025\nTime:    9:00 am – 12:00 pm\nWhere:  Ina Brundrett Conservation Education Building\, 2900 Raguet St.\, Nacogdoches\, Texas\nCost:  $35 for SFA Gardens members and $45 for non-members \nPurchase tickets online at the SFA State University Store. Space is limited and pre-registration is required. \nDownload this gourds workshop flyer for more information. \nFor more information\, contact the SFA Gardens at 936-468-1832 or email kay.jenkins@sfasu.edu.
URL:https://txmgsc.org/event/gorgeous-ghoulish-gourds-workshop/
CATEGORIES:Open to the Public
ATTACH;FMTTYPE=image/jpeg:https://txmgsc.org/wp-content/uploads/2025/08/Gourds.jpg
END:VEVENT
END:VCALENDAR