BEGIN:VCALENDAR
VERSION:2.0
PRODID:-//Smith County Master Gardeners - ECPv6.15.20//NONSGML v1.0//EN
CALSCALE:GREGORIAN
METHOD:PUBLISH
X-WR-CALNAME:Smith County Master Gardeners
X-ORIGINAL-URL:https://txmgsc.org
X-WR-CALDESC:Events for Smith County Master Gardeners
REFRESH-INTERVAL;VALUE=DURATION:PT1H
X-Robots-Tag:noindex
X-PUBLISHED-TTL:PT1H
BEGIN:VTIMEZONE
TZID:America/Chicago
BEGIN:DAYLIGHT
TZOFFSETFROM:-0600
TZOFFSETTO:-0500
TZNAME:CDT
DTSTART:20240310T080000
END:DAYLIGHT
BEGIN:STANDARD
TZOFFSETFROM:-0500
TZOFFSETTO:-0600
TZNAME:CST
DTSTART:20241103T070000
END:STANDARD
BEGIN:DAYLIGHT
TZOFFSETFROM:-0600
TZOFFSETTO:-0500
TZNAME:CDT
DTSTART:20250309T080000
END:DAYLIGHT
BEGIN:STANDARD
TZOFFSETFROM:-0500
TZOFFSETTO:-0600
TZNAME:CST
DTSTART:20251102T070000
END:STANDARD
BEGIN:DAYLIGHT
TZOFFSETFROM:-0600
TZOFFSETTO:-0500
TZNAME:CDT
DTSTART:20260308T080000
END:DAYLIGHT
BEGIN:STANDARD
TZOFFSETFROM:-0500
TZOFFSETTO:-0600
TZNAME:CST
DTSTART:20261101T070000
END:STANDARD
END:VTIMEZONE
BEGIN:VEVENT
DTSTART;TZID=America/Chicago:20251025T090000
DTEND;TZID=America/Chicago:20251025T130000
DTSTAMP:20260424T213445
CREATED:20250506T211637Z
LAST-MODIFIED:20251012T160750Z
UID:10000001-1761382800-1761397200@txmgsc.org
SUMMARY:From Bulbs to Blooms Conference and Bulb Sale
DESCRIPTION:Mark your calendars! The 2025 “From Bulbs to Blooms Conference & Bulbs Sale” is rapidly approaching. \nDownload a printable version of the 2025 Sales Catalog HERE. \nDetails of the event:\nOctober 13. 2025 – 7:00 am\, the online store opens and will feature hard-to-find heritage\, hardy\, and locally trialed bulbs\, as well as a variety of trees and shrubs. Go to https://scmg-online.company.site to start your shopping. \nOctober 22\, 2025 – 10:00 pm\, the online store closes. \nOctober 25\, 2025 – 9:00 am\, the Free in-person Conference begins at Pollard United Methodist Church\, 3030 New Copeland Road\, Tyler. Our speaker will be the author and storyteller of all things plants\, Greg Grant\, PhD\, who will talk about the plants offered in the sale. \nOctober 25\, 2025 – 10:00 am to 1:00 pm\, Order pickup and the Outdoor Market at Pollard United Methodist Church\, 3030 New Copeland Road\, Tyler. We will have more bulbs\, garden artwork\, gardening books\, and our 2026 garden guide and calendar for sale as well as kids’ activities\, educational tables\, and of course lots of knowledgeable Master Gardener volunteers to help you shop. \nCall us at 903-590-2994 for additional information or questions. \nHope to see you there!
URL:https://txmgsc.org/event/from-bulbs-to-blooms-conference-and-bulb-sale/
LOCATION:Pollard United Methodist Church\, 3030 New Copeland Rd.\, Tyler\, TX\, 75701\, United States
CATEGORIES:Open to the Public
ATTACH;FMTTYPE=image/png:https://txmgsc.org/wp-content/uploads/2025/05/2025-B2B-Flyer-modified.png
ORGANIZER;CN="SCMG Information":MAILTO:info@txmgsc.org
END:VEVENT
END:VCALENDAR