BEGIN:VCALENDAR
VERSION:2.0
PRODID:-//Smith County Master Gardeners - ECPv6.15.20//NONSGML v1.0//EN
CALSCALE:GREGORIAN
METHOD:PUBLISH
X-ORIGINAL-URL:https://txmgsc.org
X-WR-CALDESC:Events for Smith County Master Gardeners
REFRESH-INTERVAL;VALUE=DURATION:PT1H
X-Robots-Tag:noindex
X-PUBLISHED-TTL:PT1H
BEGIN:VTIMEZONE
TZID:America/Chicago
BEGIN:DAYLIGHT
TZOFFSETFROM:-0600
TZOFFSETTO:-0500
TZNAME:CDT
DTSTART:20240310T080000
END:DAYLIGHT
BEGIN:STANDARD
TZOFFSETFROM:-0500
TZOFFSETTO:-0600
TZNAME:CST
DTSTART:20241103T070000
END:STANDARD
BEGIN:DAYLIGHT
TZOFFSETFROM:-0600
TZOFFSETTO:-0500
TZNAME:CDT
DTSTART:20250309T080000
END:DAYLIGHT
BEGIN:STANDARD
TZOFFSETFROM:-0500
TZOFFSETTO:-0600
TZNAME:CST
DTSTART:20251102T070000
END:STANDARD
BEGIN:DAYLIGHT
TZOFFSETFROM:-0600
TZOFFSETTO:-0500
TZNAME:CDT
DTSTART:20260308T080000
END:DAYLIGHT
BEGIN:STANDARD
TZOFFSETFROM:-0500
TZOFFSETTO:-0600
TZNAME:CST
DTSTART:20261101T070000
END:STANDARD
END:VTIMEZONE
BEGIN:VEVENT
DTSTART;TZID=America/Chicago:20251119T180000
DTEND;TZID=America/Chicago:20251119T190000
DTSTAMP:20260424T230538
CREATED:20251118T192910Z
LAST-MODIFIED:20251118T193113Z
UID:10000430-1763575200-1763578800@txmgsc.org
SUMMARY:A Conversation on Epic Gardening
DESCRIPTION:With Kevin Espiritu\, Founder and CEO\, Epic Gardening\nWednesday\, November 19\, 2025 from 7-8 p.m. ET\nVirtual\n$15 AHS members/$20 non-members\nThis program is approved for 1 CEU with the Association of Professional Landscape Designers\nWith hundreds of millions of learners on several media outlets\, Epic Gardening is committed to helping people grow plants through its gardening education and supply store. Join Kevin Espiritu\, founder and CEO of Epic Gardening\, for a conversation about the journey of building his impactful gardening business\, current projects\, the ways he reaches people through digital outlets\, and insight into plant materials\, gardening techniques\, and gardening education resources. This conversation will be filled with valuable tips for home gardeners\, garden communicators\, garden educators\, and professionals building plant businesses. \nKevin Espiritu is the founder and CEO of Epic Gardening\, the world’s most-followed gardening education brand and gardening supply source. As a self-taught gardener\, Espiritu has spent over a decade producing educational gardening content across YouTube\, TikTok\, Instagram\, Facebook\, The Beet podcast\, and his blog. He’s amassed over 23 million social media followers\, 25 million podcast downloads\, and over 120 million pageviews on his blog. Additionally\, Espiritu has authored three books: Field Guide To Urban Gardening: How to Grow Plants\, No Matter Where You Live\, Grow Bag Gardening: The Revolutionary Way to Grow Bountiful Vegetables\, Herbs\, Fruits\, and Flowers in Lightweight\, Eco-Friendly Fabric Pots\, and Epic Homesteading: Your Guide to Self-Sufficiency on a Modern\, High-Tech\, Backyard Homestead. Kevin currently lives at his Epic Homestead in San Diego\, California. \nREGISTER NOW
URL:https://txmgsc.org/event/a-conversation-with-epic-gardening/
LOCATION:Online
CATEGORIES:Available CE Credits
ATTACH;FMTTYPE=image/jpeg:https://txmgsc.org/wp-content/uploads/2025/04/qtq70fmfjpeg-5.jpg
END:VEVENT
END:VCALENDAR