BEGIN:VCALENDAR
VERSION:2.0
PRODID:-//Smith County Master Gardeners - ECPv6.15.20//NONSGML v1.0//EN
CALSCALE:GREGORIAN
METHOD:PUBLISH
X-ORIGINAL-URL:https://txmgsc.org
X-WR-CALDESC:Events for Smith County Master Gardeners
REFRESH-INTERVAL;VALUE=DURATION:PT1H
X-Robots-Tag:noindex
X-PUBLISHED-TTL:PT1H
BEGIN:VTIMEZONE
TZID:America/Chicago
BEGIN:DAYLIGHT
TZOFFSETFROM:-0600
TZOFFSETTO:-0500
TZNAME:CDT
DTSTART:20250309T080000
END:DAYLIGHT
BEGIN:STANDARD
TZOFFSETFROM:-0500
TZOFFSETTO:-0600
TZNAME:CST
DTSTART:20251102T070000
END:STANDARD
BEGIN:DAYLIGHT
TZOFFSETFROM:-0600
TZOFFSETTO:-0500
TZNAME:CDT
DTSTART:20260308T080000
END:DAYLIGHT
BEGIN:STANDARD
TZOFFSETFROM:-0500
TZOFFSETTO:-0600
TZNAME:CST
DTSTART:20261101T070000
END:STANDARD
BEGIN:DAYLIGHT
TZOFFSETFROM:-0600
TZOFFSETTO:-0500
TZNAME:CDT
DTSTART:20270314T080000
END:DAYLIGHT
BEGIN:STANDARD
TZOFFSETFROM:-0500
TZOFFSETTO:-0600
TZNAME:CST
DTSTART:20271107T070000
END:STANDARD
END:VTIMEZONE
BEGIN:VEVENT
DTSTART;TZID=America/Chicago:20260509T090000
DTEND;TZID=America/Chicago:20260509T120000
DTSTAMP:20260424T092122
CREATED:20260420T215140Z
LAST-MODIFIED:20260420T215305Z
UID:10000493-1778317200-1778328000@txmgsc.org
SUMMARY:Plant Propagation Seminar at SFA Gardens
DESCRIPTION:SFA Gardens to Host Garden Seminar on Plant Propagation \nWhen: May 9\, 2026\nTime: 9 am to noon\nWhere: Ina Brundrett Conservation Education Building at the Pineywoods Native Plant Center\, located at 2900 Raguet Street\, Nacogdoches. \nThe seminar will feature Dr. Andrew King\, assistant professor of ornamental horticulture at Texas A&M AgriLife Extension Service in Overton. With a rich heritage as a 4th-generation horticulturist in a family that has been active in the nursery industry for over 110 years\, Dr. King brings a wealth of knowledge to the session. His experience includes serving on the faculty in the Texas A&M Department of Horticultural Sciences and as the Assistant Director of SFA Gardens at Stephen F. Austin State University. \nDuring this seminar\, Dr. King will present “Plant Propagation\,” in which he will demonstrate essential propagation techniques\, including cuttings and seed sowing. Attendees will have the chance to get hands-on experience with propagating plants and will even take their newly propagated plants home. Dr. King emphasizes\, “The workshop will be a great opportunity for gardeners to learn the basics of propagation.” \nRegistration costs are $25 for SFA Gardens members and $35 for nonmembers. Tickets are available for purchase online at sfasu.edu/gardens/store. \nFor any additional information\, please contact SFA Gardens at 936-468-4404 or via email at sfagardens@sfasu.edu. Click HERE to download a printable version of the flyer. \nJoin us at SFA Gardens for a wonderful opportunity to expand your gardening skills and connect with fellow enthusiasts!
URL:https://txmgsc.org/event/plant-propagation-seminar-at-sfa-gardens/
LOCATION:Pineywoods Native Plant Center at SFA\, 2900 Raguet St\,\, Nacogdoches\, TX\, 75965\, United States
CATEGORIES:Available CE Credits,Open to the Public
ATTACH;FMTTYPE=image/jpeg:https://txmgsc.org/wp-content/uploads/2025/10/pexels-shvetsa-5831012-scaled.jpg
END:VEVENT
BEGIN:VEVENT
DTSTART;TZID=America/Chicago:20260515T120000
DTEND;TZID=America/Chicago:20260515T130000
DTSTAMP:20260424T092122
CREATED:20251227T203613Z
LAST-MODIFIED:20251227T203613Z
UID:10000446-1778846400-1778850000@txmgsc.org
SUMMARY:Gardening for the Heat
DESCRIPTION:Elizabeth Waldrop\, a native of East Texas\, is a Smith County Master Gardener with extensive experience in growing vegetables in the region. She will focus on food gardening and discuss how to create a garden that remains productive throughout the summer. Topics will include the use of mulch\, both artificial and natural shade\, slow and low watering techniques such as ollas\, and advice on when to refrain from fertilizing. \nWhere:  Tyler Public Library\, 201 S. College Ave\, Tyler\nTime:     12:00 noon – 1:00 pm\nWhen:    May 15\, 2026 \nAll Library events are open to the public\, with seating becoming available beginning at 11:30 am.
URL:https://txmgsc.org/event/gardening-for-the-heat/
LOCATION:Tyler Public Library\, 201 S. College Ave.\, Tyler\, TX\, 75702\, United States
CATEGORIES:Available CE Credits,Open to the Public
ATTACH;FMTTYPE=image/jpeg:https://txmgsc.org/wp-content/uploads/2025/12/pexels-ellie-burgin-1661546-10614246-scaled.jpg
END:VEVENT
BEGIN:VEVENT
DTSTART;TZID=America/Chicago:20260516T090000
DTEND;TZID=America/Chicago:20260516T150000
DTSTAMP:20260424T092122
CREATED:20260224T125244Z
LAST-MODIFIED:20260303T201940Z
UID:10000483-1778922000-1778943600@txmgsc.org
SUMMARY:2026 Annual Home Garden Tour
DESCRIPTION:Join Us for the 2026 Home Garden Tour! \nExperience the beauty of Tyler’s private landscapes at our Annual Home Garden Tour. This year’s event features five unique and inspiring gardens. Whether you are a seasoned gardener or just looking for a peaceful Saturday stroll\, these spaces offer something for everyone. \nEvent Details \n\nDate: Saturday\, May 16\, 2026.\nTime: 9 a.m. to 3 p.m.\nLocation: Various private gardens throughout Tyler.\nWeather: Held rain or shine.\n\nTicket Information \n\nAdvance Tickets: $15 per person.\nDay of Event: $20 per person.\nChildren: Under 12 attend for free.\nPurchase Online: Click here to buy tickets.\nLink to the map of homes:  2026 Home Garden Tour – Google My Maps\n\nFeatured Gardens\nExplore a diverse collection of horticultural styles: \n\nSun-Lover’s Paradise: A vibrant\, pollinator-friendly garden with mature hardscaping.\nCottage Charm: A delightful blend of sun and shade plants with structural accents.\nThe Elegant Estate: Featuring a creative transformation of a former sport court into a raised vegetable garden.\nWhimsical Shade: A winding path through well-established\, mature plantings.\nEnglish Classics: Traditional “garden rooms” designed for exploration.\nEducational Demonstrations\n\nEach home on the tour will host a specific educational station to help you improve your own green space: \n\n Sunday Gardens: Low-maintenance\, peaceful escapes.\n Native Plants: Boosting your local environment.\n Smart Watering: Tips on “hydro-zoning” and deep watering.\nVeggies in Containers: Perfect for small spaces.\nLawn Care: Expert help for diagnosing grass issues.\n\n \nFor more information\, call 903-590-2994 or email HGT2026@txmgsc.org
URL:https://txmgsc.org/event/2026-annual-home-garden-tour/
CATEGORIES:Open to the Public
ATTACH;FMTTYPE=image/jpeg:https://txmgsc.org/wp-content/uploads/2026/02/2026-hgt-cottage.jpg
END:VEVENT
BEGIN:VEVENT
DTSTART;TZID=America/Chicago:20260709T090000
DTEND;TZID=America/Chicago:20260709T120000
DTSTAMP:20260424T092122
CREATED:20260104T185458Z
LAST-MODIFIED:20260409T215331Z
UID:10000448-1783587600-1783598400@txmgsc.org
SUMMARY:Make the Most of Your Edible Garden Workshop
DESCRIPTION:Master the Art of a Sustainable\, Year-Round Harvest \nTYLER\, TEXAS — As the summer heat intensifies\, local gardeners are looking for ways to protect their hard work and make their harvests last. The upcoming “Making the Most of Your Edible Garden” summer workshop offers a comprehensive guide to sustainable gardening\, from surviving the Texas heat to mastering the art of food preservation. The workshop will take place on July 9\, 2026\, from 9:00 am to 12:00 pm at Tyler’s Rose Center Complex in the Camilla room. Check-in begins at 8:30 am. \nThis workshop empowers gardeners to adopt a full-circle approach to sustainability\, beginning with innovative water strategies designed to keep thirsty landscapes thriving during the peak of summer. Participants will dive into expert harvesting and late-season planting techniques to maximize their garden’s output. To ensure nothing goes to waste\, the program highlights the essential skill of food preservation\, teaching attendees how to extend the shelf life of their produce through canning\, dehydrating\, and more. By connecting water conservation with smart harvesting and preservation\, growers can transform a temporary summer surplus into a resilient\, year-round food source. \nIf you would like more information\, please contact our Help Desk at smithmghelpdesk@gmail.com. We look forward to seeing you there! \nDate: July 9\, 2026\nTime: 9:00 am to 12:00 pm\, Registration opens at 8:30 am\nLocation: Tyler’s Rose Center Complex\, the Camilla room \nSession 1: Water Strategies to Beat the Heat – Clint Perkins\, Agriculture and Natural Resources\n– 9:00 AM – 9:45 AM\n– Develop an innovative watering strategy that provides methods to irrigate your thirsty landscape while adhering to earth-kind principles. \nSession 2: Food Preservation and Canning – Amy Shively\, Family and Community Health\n– 10:00 AM – 10:45 AM\n– Explore methods to preserve your hard work and enhance the longevity of your produce through canning\, dehydrating\, and more. \nSession 3: Harvesting and Late Season Planting – Dr. Greg Grant\, Smith County Horticulture Agent\n– 11:00 AM – 11:45 PM\n– Discover specific gardening challenges\, with personalized insights for local growers. \nInterlude\n-11:45 AM – 12:00 PM\n– Katy Barone will offer a short program on how the Shade Garden has handled water problems in the landscape. \nTour of the Tyler Botanical Gardens – Shade Garden\n12:00 PM – 12:30 PM\n-Visit the Shade Garden to see how water runoff has been skillfully managed to control erosion. This demonstration highlights sustainable landscaping practices that effectively manage water flow while promoting soil health and preserving the garden’s natural beauty.
URL:https://txmgsc.org/event/make-the-most-of-your-edible-garden-through-harvesting-and-preserving-techniques/
LOCATION:Tyler Rose Garden Center\, 420 Rose Park Dr.\, Tyler\, TX\, 75702\, United States
CATEGORIES:Available CE Credits,Open to the Public
ATTACH;FMTTYPE=image/jpeg:https://txmgsc.org/wp-content/uploads/2026/01/pexels-n-voitkevich-5425821-scaled.jpg
END:VEVENT
BEGIN:VEVENT
DTSTART;TZID=America/Chicago:20260910T090000
DTEND;TZID=America/Chicago:20260910T120000
DTSTAMP:20260424T092122
CREATED:20260104T201542Z
LAST-MODIFIED:20260410T181611Z
UID:10000449-1789030800-1789041600@txmgsc.org
SUMMARY:Transitioning to Cool-Season Crops and Herbs Workshop
DESCRIPTION:Cool-Season Gardening – A Fall Workshop \nTYLER\, Texas – As the summer heat begins to fade\, East Texas gardeners are preparing for a new season of growth. To ensure local residents are equipped for success\, the Cool-Season Gardening Fall Workshop will take place on September 10\, 2026\, at Tyler’s Rose Center Complex in the Camilla Room from 9:00 am to 12:00 pm. Check-in begins at 8:30 am. \nUnlock the full potential of your gardening journey! Embrace this incredible opportunity to enhance your skills and gain in-depth knowledge about thriving cool-weather crops. Act now and watch your garden flourish like never before. Whether you’re a beginner or looking to refine your techniques\, this workshop is for you!\nIf you would like more information\, please get in touch with our Help Desk at smithmghelpdesk@gmail.com. We look forward to seeing you there! \nDate: September 10\, 2026\nTime: 9:00 am to 12:00 pm\, Registration opens at 8:30 am\nLocation: Tyler’s Rose Center Complex\, the Camilla room \nSession 1: Transitioning to Cool-Season Vegetables – Greg Grant\, PhD\, Horticulture Agent\n– 9:00 AM – 9:45 AM\n– Understand the challenges for fall gardens and the impact of sustaining adequate moisture by reviewing the Drought Monitor. Identify additional heat-related challenges\, including insects\, and the importance of mulching. \nSession 2: Culinary Herb Gardening Tips – Elizabeth Waldrop\, Smith County Master Gardener\n-10:00 AM – 10:45 AM\n– Introduction to growing and caring for common culinary herbs\, including sun and water requirements\, and the prevention of various insects \nSession 3: Prepare Your Garden for Winter – Smith County Master Gardeners\n– 11:00 AM – 11:45 AM\n– Understand the importance of weeding\, pruning\, protecting your plants\, and maintaining your tools. \nTour of the Tyler Botanical Gardens – Heritage Rose Garden\n12:00 AM – 12:30 PM\n-Visit the Heritage Rose Garden to observe a demonstration on caring for various culinary herbs and preparing your garden for cooler temperatures.
URL:https://txmgsc.org/event/transitioning-to-cool-season-crops-and-herbs-workshop/
LOCATION:Tyler Rose Garden Center\, 420 Rose Park Dr.\, Tyler\, TX\, 75702\, United States
CATEGORIES:Available CE Credits,Open to the Public
ATTACH;FMTTYPE=image/jpeg:https://txmgsc.org/wp-content/uploads/2026/01/pexels-eva-bronzini-5502853-1-scaled.jpg
END:VEVENT
BEGIN:VEVENT
DTSTART;TZID=America/Chicago:20261024T090000
DTEND;TZID=America/Chicago:20261024T130000
DTSTAMP:20260424T092122
CREATED:20260306T234830Z
LAST-MODIFIED:20260307T202656Z
UID:10000491-1792832400-1792846800@txmgsc.org
SUMMARY:From Bulbs to Blooms Conference and Sale
DESCRIPTION:Mark your calendars! The 2026 From Bulbs to Blooms Conference and Sale is rapidly approaching. \nDetails of the event:\nOctober 12. 2026 – 7:00 am\, the online store opens and will feature hard-to-find heritage\, hardy\, and locally trialed bulbs\, as well as a variety of trees and shrubs. \nOctober 21\, 2026 – 10:00 pm\, the online store closes. \nOctober 24\, 2026 – 9:00 am\, the Free in-person Conference begins at Pollard United Methodist Church\, 3030 New Copeland Road\, Tyler. \nOctober 24\, 2026 – 10:00 am to 1:00 pm\, Order pickup and the Indoor Market at Pollard United Methodist Church\, 3030 New Copeland Road\, Tyler. We will have more bulbs\, garden artwork\, gardening books\, and our 2027 garden guide and calendar for sale as well as kids’ activities\, educational tables\, and of course lots of knowledgeable Master Gardener volunteers to help you shop. \nCall us at 903-590-2994 for additional information or questions. \nHope to see you there!
URL:https://txmgsc.org/event/from-bulbs-to-blooms-conference-2026/
LOCATION:Pollard United Methodist Church\, 3030 New Copeland Rd.\, Tyler\, TX\, 75701\, United States
CATEGORIES:Open to the Public
ATTACH;FMTTYPE=image/jpeg:https://txmgsc.org/wp-content/uploads/2026/02/2026-03-01-Carlton-Fortune-and-Ice-Follies-scaled-e1772915531664.jpg
ORGANIZER;CN="SCMG Information":MAILTO:info@txmgsc.org
END:VEVENT
END:VCALENDAR