BEGIN:VCALENDAR
VERSION:2.0
PRODID:-//Smith County Master Gardeners - ECPv6.15.20//NONSGML v1.0//EN
CALSCALE:GREGORIAN
METHOD:PUBLISH
X-ORIGINAL-URL:https://txmgsc.org
X-WR-CALDESC:Events for Smith County Master Gardeners
REFRESH-INTERVAL;VALUE=DURATION:PT1H
X-Robots-Tag:noindex
X-PUBLISHED-TTL:PT1H
BEGIN:VTIMEZONE
TZID:America/Chicago
BEGIN:DAYLIGHT
TZOFFSETFROM:-0600
TZOFFSETTO:-0500
TZNAME:CDT
DTSTART:20250309T080000
END:DAYLIGHT
BEGIN:STANDARD
TZOFFSETFROM:-0500
TZOFFSETTO:-0600
TZNAME:CST
DTSTART:20251102T070000
END:STANDARD
BEGIN:DAYLIGHT
TZOFFSETFROM:-0600
TZOFFSETTO:-0500
TZNAME:CDT
DTSTART:20260308T080000
END:DAYLIGHT
BEGIN:STANDARD
TZOFFSETFROM:-0500
TZOFFSETTO:-0600
TZNAME:CST
DTSTART:20261101T070000
END:STANDARD
BEGIN:DAYLIGHT
TZOFFSETFROM:-0600
TZOFFSETTO:-0500
TZNAME:CDT
DTSTART:20270314T080000
END:DAYLIGHT
BEGIN:STANDARD
TZOFFSETFROM:-0500
TZOFFSETTO:-0600
TZNAME:CST
DTSTART:20271107T070000
END:STANDARD
END:VTIMEZONE
BEGIN:VEVENT
DTSTART;TZID=America/Chicago:20260509T090000
DTEND;TZID=America/Chicago:20260509T120000
DTSTAMP:20260424T092052
CREATED:20260420T215140Z
LAST-MODIFIED:20260420T215305Z
UID:10000493-1778317200-1778328000@txmgsc.org
SUMMARY:Plant Propagation Seminar at SFA Gardens
DESCRIPTION:SFA Gardens to Host Garden Seminar on Plant Propagation \nWhen: May 9\, 2026\nTime: 9 am to noon\nWhere: Ina Brundrett Conservation Education Building at the Pineywoods Native Plant Center\, located at 2900 Raguet Street\, Nacogdoches. \nThe seminar will feature Dr. Andrew King\, assistant professor of ornamental horticulture at Texas A&M AgriLife Extension Service in Overton. With a rich heritage as a 4th-generation horticulturist in a family that has been active in the nursery industry for over 110 years\, Dr. King brings a wealth of knowledge to the session. His experience includes serving on the faculty in the Texas A&M Department of Horticultural Sciences and as the Assistant Director of SFA Gardens at Stephen F. Austin State University. \nDuring this seminar\, Dr. King will present “Plant Propagation\,” in which he will demonstrate essential propagation techniques\, including cuttings and seed sowing. Attendees will have the chance to get hands-on experience with propagating plants and will even take their newly propagated plants home. Dr. King emphasizes\, “The workshop will be a great opportunity for gardeners to learn the basics of propagation.” \nRegistration costs are $25 for SFA Gardens members and $35 for nonmembers. Tickets are available for purchase online at sfasu.edu/gardens/store. \nFor any additional information\, please contact SFA Gardens at 936-468-4404 or via email at sfagardens@sfasu.edu. Click HERE to download a printable version of the flyer. \nJoin us at SFA Gardens for a wonderful opportunity to expand your gardening skills and connect with fellow enthusiasts!
URL:https://txmgsc.org/event/plant-propagation-seminar-at-sfa-gardens/
LOCATION:Pineywoods Native Plant Center at SFA\, 2900 Raguet St\,\, Nacogdoches\, TX\, 75965\, United States
CATEGORIES:Available CE Credits,Open to the Public
ATTACH;FMTTYPE=image/jpeg:https://txmgsc.org/wp-content/uploads/2025/10/pexels-shvetsa-5831012-scaled.jpg
END:VEVENT
BEGIN:VEVENT
DTSTART;TZID=America/Chicago:20260515T120000
DTEND;TZID=America/Chicago:20260515T130000
DTSTAMP:20260424T092052
CREATED:20251227T203613Z
LAST-MODIFIED:20251227T203613Z
UID:10000446-1778846400-1778850000@txmgsc.org
SUMMARY:Gardening for the Heat
DESCRIPTION:Elizabeth Waldrop\, a native of East Texas\, is a Smith County Master Gardener with extensive experience in growing vegetables in the region. She will focus on food gardening and discuss how to create a garden that remains productive throughout the summer. Topics will include the use of mulch\, both artificial and natural shade\, slow and low watering techniques such as ollas\, and advice on when to refrain from fertilizing. \nWhere:  Tyler Public Library\, 201 S. College Ave\, Tyler\nTime:     12:00 noon – 1:00 pm\nWhen:    May 15\, 2026 \nAll Library events are open to the public\, with seating becoming available beginning at 11:30 am.
URL:https://txmgsc.org/event/gardening-for-the-heat/
LOCATION:Tyler Public Library\, 201 S. College Ave.\, Tyler\, TX\, 75702\, United States
CATEGORIES:Available CE Credits,Open to the Public
ATTACH;FMTTYPE=image/jpeg:https://txmgsc.org/wp-content/uploads/2025/12/pexels-ellie-burgin-1661546-10614246-scaled.jpg
END:VEVENT
END:VCALENDAR